Workbook

Sheet 1. Forrás(1)
B2: Javítsuk ki a 2, 3, 4, 5 és a 6. munkalap 'F' oszlopában szereplő formulákat. Minden esetben az a formulák célja, hogy jelen munkalapról áthozzák az adott számlaszámhoz tartozó értékesítők nevét
B5: Számlaszám | C5: Város | D5: Régió | E5: Értékesítő neve
B6: 9179866 | C6: Debrecen | D6: Észak-Alföld | E6: Kis István
B7: 6175532 | C7: Budapest | D7: Budapest | E7: Sándor Kitti
B8: 7839168 | C8: Debrecen | D8: Észak-Alföld | E8: Balogh Árpád
B9: 3457018 | C9: Budapest | D9: Budapest | E9: Jónás Kevin
B10: 8958793 | C10: Kaposvár | D10: Dél-Dunántúl | E10: Lukács Marcell
B11: 3916794 | C11: Budapest | D11: Budapest | E11: Mezei Rozália
B12: 3384195 | C12: Pécs | D12: Dél-Dunántúl | E12: Deák Zalán
B13: 8133704 | C13: Létavértes | D13: Észak-Alföld | E13: Bogdán Rózsa
B14: 6670667 | C14: Pécs | D14: Dél-Dunántúl | E14: Fazekas Szilárd
B15: 2551433 | C15: Szolnok | D15: Észak-Alföld | E15: Bogdán Rózsa
B16: 8924293 | C16: Budapest | D16: Budapest | E16: Farkas Dorina
B17: 7442617 | C17: Budapest | D17: Budapest | E17: Kis Piroska
... B844: 9435331 | C844: Érd | D844: Közép-Magyarország | E844: Péter Rita

Sheet 2. Cél(1)
B2: Számlaszám | C2: Összeg (HUF) | D2: Régió | E2: Város | F2: Értékesítő
B3: 7331368 | C3: 291410 | D3: Észak-Alföld | E3: Nyíregyháza | F3: =+VLOOKUP(B3,'1. Forrás(1)'!B6:E844,4,0) -> Bogdán Rózsa
B4: 6447362 | C4: 319630 | D4: Észak-Alföld | E4: Szolnok | F4: =+VLOOKUP(B4,'1. Forrás(1)'!B7:E845,4,0) -> Bogdán Rózsa
B5: 4773907 | C5: 1069440 | D5: Budapest | E5: Budapest | F5: =+VLOOKUP(B5,'1. Forrás(1)'!B8:E846,4,0) -> Vass Beáta
B6: 5744274 | C6: 170360 | D6: Észak-Magyarország | E6: Eger | F6: =+VLOOKUP(B6,'1. Forrás(1)'!B9:E847,4,0) -> Szűcs Tamás
B7: 8952184 | C7: 542500 | D7: Közép-Dunántúl | E7: Várpalota | F7: =+VLOOKUP(B7,'1. Forrás(1)'!B10:E848,4,0) -> Barna Gergely
B8: 4457986 | C8: 543190 | D8: Budapest | E8: Budapest | F8: =+VLOOKUP(B8,'1. Forrás(1)'!B11:E849,4,0) -> Dobos Richárd
B9: 1665463 | C9: 1354190 | D9: Észak-Alföld | E9: Balmazújváros | F9: =+VLOOKUP(B9,'1. Forrás(1)'!B12:E850,4,0) -> Kis Gergely
B10: 6299253 | C10: 479690 | D10: Dél-Dunántúl | E10: Dombóvár | F10: =+VLOOKUP(B10,'1. Forrás(1)'!B13:E851,4,0) -> Bálint Barna
B11: 2450377 | C11: 690510 | D11: Közép-Dunántúl | E11: Balatonalmádi | F11: =+VLOOKUP(B11,'1. Forrás(1)'!B14:E852,4,0) -> Sándor Roland
B12: 5081588 | C12: 1448350 | D12: Budapest | E12: Budapest | F12: =+VLOOKUP(B12,'1. Forrás(1)'!B15:E853,4,0) -> Lukács Henrik
B13: 6513659 | C13: 1493850 | D13: Dél-Alföld | E13: Orosháza | F13: =+VLOOKUP(B13,'1. Forrás(1)'!B16:E854,4,0) -> Mezei Ervin
B14: 7176928 | C14: 1071270 | D14: Észak-Alföld | E14: Nádudvar | F14: =+VLOOKUP(B14,'1. Forrás(1)'!B17:E855,4,0) -> Máté Erika
... B841: 1853556 | C841: 138030 | D841: Közép-Magyarország | E841: Maglód | F841: =+VLOOKUP(B841,'1. Forrás(1)'!B844:E1682,4,0) -> #N/A

Sheet 3. Cél(2)
B2: Számlaszám | C2: Összeg (HUF) | D2: Régió | E2: Város | F2: Értékesítő
B3: 7331368 | C3: 291410 | D3: Észak-Alföld | E3: Nyíregyháza | F3: =+VLOOKUP('1. Forrás(1)'!$B$6:$E$844,4,0) -> #VALUE!
B4: 6447362 | C4: 319630 | D4: Észak-Alföld | E4: Szolnok | F4: =+VLOOKUP('1. Forrás(1)'!$B$6:$E$844,4,0) -> #VALUE!
B5: 4773907 | C5: 1069440 | D5: Budapest | E5: Budapest | F5: =+VLOOKUP('1. Forrás(1)'!$B$6:$E$844,4,0) -> #VALUE!
B6: 5744274 | C6: 170360 | D6: Észak-Magyarország | E6: Eger | F6: =+VLOOKUP('1. Forrás(1)'!$B$6:$E$844,4,0) -> #VALUE!
B7: 8952184 | C7: 542500 | D7: Közép-Dunántúl | E7: Várpalota | F7: =+VLOOKUP('1. Forrás(1)'!$B$6:$E$844,4,0) -> #VALUE!
B8: 4457986 | C8: 543190 | D8: Budapest | E8: Budapest | F8: =+VLOOKUP('1. Forrás(1)'!$B$6:$E$844,4,0) -> #VALUE!
B9: 1665463 | C9: 1354190 | D9: Észak-Alföld | E9: Balmazújváros | F9: =+VLOOKUP('1. Forrás(1)'!$B$6:$E$844,4,0) -> #VALUE!
B10: 6299253 | C10: 479690 | D10: Dél-Dunántúl | E10: Dombóvár | F10: =+VLOOKUP('1. Forrás(1)'!$B$6:$E$844,4,0) -> #VALUE!
B11: 2450377 | C11: 690510 | D11: Közép-Dunántúl | E11: Balatonalmádi | F11: =+VLOOKUP('1. Forrás(1)'!$B$6:$E$844,4,0) -> #VALUE!
B12: 5081588 | C12: 1448350 | D12: Budapest | E12: Budapest | F12: =+VLOOKUP('1. Forrás(1)'!$B$6:$E$844,4,0) -> #VALUE!
B13: 6513659 | C13: 1493850 | D13: Dél-Alföld | E13: Orosháza | F13: =+VLOOKUP('1. Forrás(1)'!$B$6:$E$844,4,0) -> #VALUE!
B14: 7176928 | C14: 1071270 | D14: Észak-Alföld | E14: Nádudvar | F14: =+VLOOKUP('1. Forrás(1)'!$B$6:$E$844,4,0) -> #VALUE!
... B841: 1853556 | C841: 138030 | D841: Közép-Magyarország | E841: Maglód | F841: =+VLOOKUP('1. Forrás(1)'!$B$6:$E$844,4,0) -> #VALUE!

Sheet 4. Cél(3)
B2: Számlaszám | C2: Összeg (HUF) | D2: Régió | E2: Város | F2: Értékesítő
B3: 7331368 | C3: 291410 | D3: Észak-Alföld | E3: Nyíregyháza | F3: =+VLOOKUP(B3,'1. Forrás(1)'!$B$6:$E$844,6,0) -> #REF!
B4: 6447362 | C4: 319630 | D4: Észak-Alföld | E4: Szolnok | F4: =+VLOOKUP(B4,'1. Forrás(1)'!$B$6:$E$844,6,0) -> #REF!
B5: 4773907 | C5: 1069440 | D5: Budapest | E5: Budapest | F5: =+VLOOKUP(B5,'1. Forrás(1)'!$B$6:$E$844,6,0) -> #REF!
B6: 5744274 | C6: 170360 | D6: Észak-Magyarország | E6: Eger | F6: =+VLOOKUP(B6,'1. Forrás(1)'!$B$6:$E$844,6,0) -> #REF!
B7: 8952184 | C7: 542500 | D7: Közép-Dunántúl | E7: Várpalota | F7: =+VLOOKUP(B7,'1. Forrás(1)'!$B$6:$E$844,6,0) -> #REF!
B8: 4457986 | C8: 543190 | D8: Budapest | E8: Budapest | F8: =+VLOOKUP(B8,'1. Forrás(1)'!$B$6:$E$844,6,0) -> #REF!
B9: 1665463 | C9: 1354190 | D9: Észak-Alföld | E9: Balmazújváros | F9: =+VLOOKUP(B9,'1. Forrás(1)'!$B$6:$E$844,6,0) -> #REF!
B10: 6299253 | C10: 479690 | D10: Dél-Dunántúl | E10: Dombóvár | F10: =+VLOOKUP(B10,'1. Forrás(1)'!$B$6:$E$844,6,0) -> #REF!
B11: 2450377 | C11: 690510 | D11: Közép-Dunántúl | E11: Balatonalmádi | F11: =+VLOOKUP(B11,'1. Forrás(1)'!$B$6:$E$844,6,0) -> #REF!
B12: 5081588 | C12: 1448350 | D12: Budapest | E12: Budapest | F12: =+VLOOKUP(B12,'1. Forrás(1)'!$B$6:$E$844,6,0) -> #REF!
B13: 6513659 | C13: 1493850 | D13: Dél-Alföld | E13: Orosháza | F13: =+VLOOKUP(B13,'1. Forrás(1)'!$B$6:$E$844,6,0) -> #REF!
B14: 7176928 | C14: 1071270 | D14: Észak-Alföld | E14: Nádudvar | F14: =+VLOOKUP(B14,'1. Forrás(1)'!$B$6:$E$844,6,0) -> #REF!
... B841: 1853556 | C841: 138030 | D841: Közép-Magyarország | E841: Maglód | F841: =+VLOOKUP(B841,'1. Forrás(1)'!$B$6:$E$844,6,0) -> #REF!

Sheet 5. Cél(4)
B2: Számlaszám | C2: Összeg (HUF) | D2: Régió | E2: Város | F2: Értékesítő
B3: 7331368 | C3: 291410 | D3: Észak-Alföld | E3: Nyíregyháza | F3: =+VLOOKUP(B3,'1. Forrás(1)'!$B$6:$E$844,4,1) -> Gáspár Marcell
B4: 6447362 | C4: 319630 | D4: Észak-Alföld | E4: Szolnok | F4: =+VLOOKUP(B4,'1. Forrás(1)'!$B$6:$E$844,4,1) -> Gáspár Marcell
B5: 4773907 | C5: 1069440 | D5: Budapest | E5: Budapest | F5: =+VLOOKUP(B5,'1. Forrás(1)'!$B$6:$E$844,4,1) -> Kozma Nikolett
B6: 5744274 | C6: 170360 | D6: Észak-Magyarország | E6: Eger | F6: =+VLOOKUP(B6,'1. Forrás(1)'!$B$6:$E$844,4,1) -> Szűcs Tamás
B7: 8952184 | C7: 542500 | D7: Közép-Dunántúl | E7: Várpalota | F7: =+VLOOKUP(B7,'1. Forrás(1)'!$B$6:$E$844,4,1) -> Szűcs Anna
B8: 4457986 | C8: 543190 | D8: Budapest | E8: Budapest | F8: =+VLOOKUP(B8,'1. Forrás(1)'!$B$6:$E$844,4,1) -> Kozma Nikolett
B9: 1665463 | C9: 1354190 | D9: Észak-Alföld | E9: Balmazújváros | F9: =+VLOOKUP(B9,'1. Forrás(1)'!$B$6:$E$844,4,1) -> #N/A
B10: 6299253 | C10: 479690 | D10: Dél-Dunántúl | E10: Dombóvár | F10: =+VLOOKUP(B10,'1. Forrás(1)'!$B$6:$E$844,4,1) -> Gáspár Marcell
B11: 2450377 | C11: 690510 | D11: Közép-Dunántúl | E11: Balatonalmádi | F11: =+VLOOKUP(B11,'1. Forrás(1)'!$B$6:$E$844,4,1) -> Tóth Enikő
B12: 5081588 | C12: 1448350 | D12: Budapest | E12: Budapest | F12: =+VLOOKUP(B12,'1. Forrás(1)'!$B$6:$E$844,4,1) -> Hajdu Edina
B13: 6513659 | C13: 1493850 | D13: Dél-Alföld | E13: Orosháza | F13: =+VLOOKUP(B13,'1. Forrás(1)'!$B$6:$E$844,4,1) -> Gáspár Marcell
B14: 7176928 | C14: 1071270 | D14: Észak-Alföld | E14: Nádudvar | F14: =+VLOOKUP(B14,'1. Forrás(1)'!$B$6:$E$844,4,1) -> Gáspár Marcell
... B841: 1853556 | C841: 138030 | D841: Közép-Magyarország | E841: Maglód | F841: =+VLOOKUP(B841,'1. Forrás(1)'!$B$6:$E$844,4,1) -> #N/A

Sheet 6. Cél(5)
B2: Számlaszám | C2: Összeg (HUF) | D2: Régió | E2: Város | F2: Értékesítő
B3: 7331368 | C3: 291410 | D3: Észak-Alföld | E3: Nyíregyháza | F3: =+VLOOKUP(B3,'1. Forrás(1)'!$C$6:$E$844,4,0) -> #N/A
B4: 6447362 | C4: 319630 | D4: Észak-Alföld | E4: Szolnok | F4: =+VLOOKUP(B4,'1. Forrás(1)'!$C$6:$E$844,4,0) -> #N/A
B5: 4773907 | C5: 1069440 | D5: Budapest | E5: Budapest | F5: =+VLOOKUP(B5,'1. Forrás(1)'!$C$6:$E$844,4,0) -> #N/A
B6: 5744274 | C6: 170360 | D6: Észak-Magyarország | E6: Eger | F6: =+VLOOKUP(B6,'1. Forrás(1)'!$C$6:$E$844,4,0) -> #N/A
B7: 8952184 | C7: 542500 | D7: Közép-Dunántúl | E7: Várpalota | F7: =+VLOOKUP(B7,'1. Forrás(1)'!$C$6:$E$844,4,0) -> #N/A
B8: 4457986 | C8: 543190 | D8: Budapest | E8: Budapest | F8: =+VLOOKUP(B8,'1. Forrás(1)'!$C$6:$E$844,4,0) -> #N/A
B9: 1665463 | C9: 1354190 | D9: Észak-Alföld | E9: Balmazújváros | F9: =+VLOOKUP(B9,'1. Forrás(1)'!$C$6:$E$844,4,0) -> #N/A
B10: 6299253 | C10: 479690 | D10: Dél-Dunántúl | E10: Dombóvár | F10: =+VLOOKUP(B10,'1. Forrás(1)'!$C$6:$E$844,4,0) -> #N/A
B11: 2450377 | C11: 690510 | D11: Közép-Dunántúl | E11: Balatonalmádi | F11: =+VLOOKUP(B11,'1. Forrás(1)'!$C$6:$E$844,4,0) -> #N/A
B12: 5081588 | C12: 1448350 | D12: Budapest | E12: Budapest | F12: =+VLOOKUP(B12,'1. Forrás(1)'!$C$6:$E$844,4,0) -> #N/A
B13: 6513659 | C13: 1493850 | D13: Dél-Alföld | E13: Orosháza | F13: =+VLOOKUP(B13,'1. Forrás(1)'!$C$6:$E$844,4,0) -> #N/A
B14: 7176928 | C14: 1071270 | D14: Észak-Alföld | E14: Nádudvar | F14: =+VLOOKUP(B14,'1. Forrás(1)'!$C$6:$E$844,4,0) -> #N/A
... B841: 1853556 | C841: 138030 | D841: Közép-Magyarország | E841: Maglód | F841: =+VLOOKUP(B841,'1. Forrás(1)'!$C$6:$E$844,4,0) -> #N/A

Sheet 7. Forrás (2)
B2: Javítsuk ki a 8. munkalap 'F' oszlopában szereplő formulákat. Az a formulák célja, hogy az első munkalapról (jelen munkalapról) áthozzák az adott számlaszámhoz tartozó értékesítő nevét
B6: Számlaszám | C6: Város | D6: Megye | E6: Régió | F6: Értékesítő neve
B7: 9179866 | C7: Debrecen | E7: Észak-Alföld | F7: Kis István
B8: 6175532 | C8: Budapest | E8: Budapest | F8: Sándor Kitti
B9: 7839168 | C9: Debrecen | E9: Észak-Alföld | F9: Balogh Árpád
B10: 3457018 | C10: Budapest | E10: Budapest | F10: Jónás Kevin
B11: 8958793 | C11: Kaposvár | E11: Dél-Dunántúl | F11: Lukács Marcell
B12: 3916794 | C12: Budapest | E12: Budapest | F12: Mezei Rozália
B13: 3384195 | C13: Pécs | E13: Dél-Dunántúl | F13: Deák Zalán
B14: 8133704 | C14: Létavértes | E14: Észak-Alföld | F14: Bogdán Rózsa
B15: 6670667 | C15: Pécs | E15: Dél-Dunántúl | F15: Fazekas Szilárd
B16: 2551433 | C16: Szolnok | E16: Észak-Alföld | F16: Bogdán Rózsa
B17: 8924293 | C17: Budapest | E17: Budapest | F17: Farkas Dorina
B18: 7442617 | C18: Budapest | E18: Budapest | F18: Kis Piroska
... B845: 9435331 | C845: Érd | E845: Közép-Magyarország | F845: Péter Rita

Sheet 8. Cél(6)
B2: Számlaszám | C2: Összeg (HUF) | D2: Régió | E2: Város | F2: Értékesítő
B3: 7331368 | C3: 291410 | D3: Észak-Alföld | E3: Nyíregyháza | F3: =+VLOOKUP(B3,'7. Forrás (2)'!$B$7:$F$845,4,0) -> Észak-Alföld
B4: 6447362 | C4: 319630 | D4: Észak-Alföld | E4: Szolnok | F4: =+VLOOKUP(B4,'7. Forrás (2)'!$B$7:$F$845,4,0) -> Észak-Alföld
B5: 4773907 | C5: 1069440 | D5: Budapest | E5: Budapest | F5: =+VLOOKUP(B5,'7. Forrás (2)'!$B$7:$F$845,4,0) -> Budapest
B6: 5744274 | C6: 170360 | D6: Észak-Magyarország | E6: Eger | F6: =+VLOOKUP(B6,'7. Forrás (2)'!$B$7:$F$845,4,0) -> Észak-Magyarország
B7: 8952184 | C7: 542500 | D7: Közép-Dunántúl | E7: Várpalota | F7: =+VLOOKUP(B7,'7. Forrás (2)'!$B$7:$F$845,4,0) -> Közép-Dunántúl
B8: 4457986 | C8: 543190 | D8: Budapest | E8: Budapest | F8: =+VLOOKUP(B8,'7. Forrás (2)'!$B$7:$F$845,4,0) -> Budapest
B9: 1665463 | C9: 1354190 | D9: Észak-Alföld | E9: Balmazújváros | F9: =+VLOOKUP(B9,'7. Forrás (2)'!$B$7:$F$845,4,0) -> Észak-Alföld
B10: 6299253 | C10: 479690 | D10: Dél-Dunántúl | E10: Dombóvár | F10: =+VLOOKUP(B10,'7. Forrás (2)'!$B$7:$F$845,4,0) -> Dél-Dunántúl
B11: 2450377 | C11: 690510 | D11: Közép-Dunántúl | E11: Balatonalmádi | F11: =+VLOOKUP(B11,'7. Forrás (2)'!$B$7:$F$845,4,0) -> Közép-Dunántúl
B12: 5081588 | C12: 1448350 | D12: Budapest | E12: Budapest | F12: =+VLOOKUP(B12,'7. Forrás (2)'!$B$7:$F$845,4,0) -> Budapest
B13: 6513659 | C13: 1493850 | D13: Dél-Alföld | E13: Orosháza | F13: =+VLOOKUP(B13,'7. Forrás (2)'!$B$7:$F$845,4,0) -> Dél-Alföld
B14: 7176928 | C14: 1071270 | D14: Észak-Alföld | E14: Nádudvar | F14: =+VLOOKUP(B14,'7. Forrás (2)'!$B$7:$F$845,4,0) -> Észak-Alföld
... B841: 1853556 | C841: 138030 | D841: Közép-Magyarország | E841: Maglód | F841: =+VLOOKUP(B841,'7. Forrás (2)'!$B$7:$F$845,4,0) -> Közép-Magyarország

Sheet 9. Forrás(3)
B2: Javítsuk ki a 10. munkalap 'F' oszlopában szereplő formulákat. Az a formulák célja, hogy jelen munkalapról áthozzák az adott számlaszámhoz tartozó értékesítők nevét
B6: Számlaszám | C6: Város | D6: Régió | E6: Értékesítő neve
B7: 9179866 | C7: Debrecen | D7: Észak-Alföld | E7: Kis István
B8: 6175532 | C8: Budapest | D8: Budapest | E8: Sándor Kitti
B9: 7839168 | C9: Debrecen | D9: Észak-Alföld | E9: Balogh Árpád
B10: 3457018 | C10: Budapest | D10: Budapest | E10: Jónás Kevin
B11: 8958793 | C11: Kaposvár | D11: Dél-Dunántúl | E11: Lukács Marcell
B12: 3916794 | C12: Budapest | D12: Budapest | E12: Mezei Rozália
B13: 3384195 | C13: Pécs | D13: Dél-Dunántúl | E13: Deák Zalán
B14: 8133704 | C14: Létavértes | D14: Észak-Alföld | E14: Bogdán Rózsa
B15: 6670667 | C15: Pécs | D15: Dél-Dunántúl | E15: Fazekas Szilárd
B16: 2551433 | C16: Szolnok | D16: Észak-Alföld | E16: Bogdán Rózsa
B17: 8924293 | C17: Budapest | D17: Budapest | E17: Farkas Dorina
... B843: 9435331 | C843: Érd | D843: Közép-Magyarország | E843: Péter Rita

Sheet 10. Cél(7)
B2: Számlaszám | C2: Összeg (HUF) | D2: Régió | E2: Város | F2: Értékesítő
B3: 7331368 | C3: 291410 | D3: Észak-Alföld | E3: Nyíregyháza | F3: =+VLOOKUP(B3,'9. Forrás(3)'!$B$7:$E$843,4,0) -> #N/A
B4: 6447362 | C4: 319630 | D4: Észak-Alföld | E4: Szolnok | F4: =+VLOOKUP(B4,'9. Forrás(3)'!$B$7:$E$843,4,0) -> #N/A
B5: 4773907 | C5: 1069440 | D5: Budapest | E5: Budapest | F5: =+VLOOKUP(B5,'9. Forrás(3)'!$B$7:$E$843,4,0) -> #N/A
B6: 5744274 | C6: 170360 | D6: Észak-Magyarország | E6: Eger | F6: =+VLOOKUP(B6,'9. Forrás(3)'!$B$7:$E$843,4,0) -> #N/A
B7: 8952184 | C7: 542500 | D7: Közép-Dunántúl | E7: Várpalota | F7: =+VLOOKUP(B7,'9. Forrás(3)'!$B$7:$E$843,4,0) -> #N/A
B8: 4457986 | C8: 543190 | D8: Budapest | E8: Budapest | F8: =+VLOOKUP(B8,'9. Forrás(3)'!B12:E848,4,0) -> #N/A
B9: 1665463 | C9: 1354190 | D9: Észak-Alföld | E9: Balmazújváros | F9: =+VLOOKUP(B9,'9. Forrás(3)'!B13:E849,4,0) -> #N/A
B10: 6299253 | C10: 479690 | D10: Dél-Dunántúl | E10: Dombóvár | F10: =+VLOOKUP(B10,'9. Forrás(3)'!B14:E850,4,0) -> #N/A
B11: 2450377 | C11: 690510 | D11: Közép-Dunántúl | E11: Balatonalmádi | F11: =+VLOOKUP(B11,'9. Forrás(3)'!B15:E851,4,0) -> #N/A
B12: 5081588 | C12: 1448350 | D12: Budapest | E12: Budapest | F12: =+VLOOKUP(B12,'9. Forrás(3)'!B16:E852,4,0) -> #N/A
B13: 6513659 | C13: 1493850 | D13: Dél-Alföld | E13: Orosháza | F13: =+VLOOKUP(B13,'9. Forrás(3)'!B17:E853,4,0) -> #N/A
B14: 7176928 | C14: 1071270 | D14: Észak-Alföld | E14: Nádudvar | F14: =+VLOOKUP(B14,'9. Forrás(3)'!B18:E854,4,0) -> #N/A
B15: 8402292 | C15: 1078710 | D15: Közép-Magyarország | E15: Nagykáta | F15: =+VLOOKUP(B15,'9. Forrás(3)'!B19:E855,4,0) -> #N/A
B16: 2092990 | C16: 355660 | D16: Észak-Alföld | E16: Nyírbátor | F16: =+VLOOKUP(B16,'9. Forrás(3)'!B20:E856,4,0) -> #N/A
B17: 7346623 | C17: 336390 | D17: Közép-Dunántúl | E17: Székesfehérvár | F17: =+VLOOKUP(B17,'9. Forrás(3)'!B21:E857,4,0) -> #N/A
B18: 9058044 | C18: 591370 | D18: Dél-Dunántúl | E18: Pécs | F18: =+VLOOKUP(B18,'9. Forrás(3)'!B22:E858,4,0) -> #N/A
B19: 4319785 | C19: 161680 | D19: Budapest | E19: Budapest | F19: =+VLOOKUP(B19,'9. Forrás(3)'!B23:E859,4,0) -> #N/A
... B265: 8485668 | C265: 961650 | D265: Dél-Alföld | E265: Lajosmizse | F265: =+VLOOKUP(B265,'9. Forrás(3)'!B269:E1105,4,0) -> #N/A
B266: 2712296 | C266: 121560 | D266: Dél-Alföld | E266: Sándorfalva | F266: =+VLOOKUP(B266,'9. Forrás(3)'!B269:E1106,4,0) -> #N/A
B267: 3846315 | C267: 1204440 | D267: Közép-Magyarország | E267: Vác | F267: =+VLOOKUP(B267,'9. Forrás(3)'!B270:E1107,4,0) -> #N/A
B268: 8819411 | C268: 1323460 | D268: Budapest | E268: Budapest | F268: =+VLOOKUP(B268,'9. Forrás(3)'!B271:E1108,4,0) -> #N/A
B269: 5339901 | C269: 34460 | D269: Közép-Magyarország | E269: Örkény | F269: =+VLOOKUP(B269,'9. Forrás(3)'!B272:E1109,4,0) -> #N/A
B270: 9845273 | C270: 762860 | D270: Dél-Dunántúl | E270: Pécs | F270: =+VLOOKUP(B270,'9. Forrás(3)'!B273:E1110,4,0) -> #N/A
B271: 9179866 | C271: 1296870 | D271: Észak-Alföld | E271: Debrecen | F271: =+VLOOKUP(B271,'9. Forrás(3)'!B274:E1111,4,0) -> #N/A
B272: 6029198 | C272: 745160 | D272: Nyugat-Dunántúl | E272: Nagykanizsa | F272: =+VLOOKUP(B272,'9. Forrás(3)'!B275:E1112,4,0) -> #N/A
B273: 6811189 | C273: 1375070 | D273: Nyugat-Dunántúl | E273: Zalaszentgrót | F273: =+VLOOKUP(B273,'9. Forrás(3)'!B276:E1113,4,0) -> #N/A
B274: 1101854 | C274: 1028170 | D274: Dél-Alföld | E274: Csongrád | F274: =+VLOOKUP(B274,'9. Forrás(3)'!B277:E1114,4,0) -> #N/A
B275: 8624818 | C275: 925290 | D275: Nyugat-Dunántúl | E275: Győr | F275: =+VLOOKUP(B275,'9. Forrás(3)'!B278:E1115,4,0) -> #N/A
B276: 9270320 | C276: 1420130 | D276: Budapest | E276: Budapest | F276: =+VLOOKUP(B276,'9. Forrás(3)'!B279:E1116,4,0) -> #N/A
B277: 6872911 | C277: 349700 | D277: Nyugat-Dunántúl | E277: Lébény | F277: =+VLOOKUP(B277,'9. Forrás(3)'!B280:E1117,4,0) -> #N/A
... B555: 4312890 | C555: 254310 | D555: Budapest | E555: Budapest | F555: =+VLOOKUP(B555,'9. Forrás(3)'!B558:E1395,4,0) -> #N/A
B556: 5272823 | C556: 1450570 | D556: Dél-Dunántúl | E556: Pécs | F556: =+VLOOKUP(B556,'9. Forrás(3)'!B558:E1396,4,0) -> #N/A
B557: 9073140 | C557: 150080 | D557: Dél-Alföld | E557: Hajós | F557: =+VLOOKUP(B557,'9. Forrás(3)'!B559:E1397,4,0) -> #N/A
B558: 1228498 | C558: 967680 | D558: Közép-Magyarország | E558: Dabas | F558: =+VLOOKUP(B558,'9. Forrás(3)'!B560:E1398,4,0) -> #N/A
B559: 8592818 | C559: 431900 | D559: Budapest | E559: Budapest | F559: =+VLOOKUP(B559,'9. Forrás(3)'!B561:E1399,4,0) -> #N/A
B560: 6841508 | C560: 1304960 | D560: Észak-Magyarország | E560: Miskolc | F560: =+VLOOKUP(B560,'9. Forrás(3)'!B562:E1400,4,0) -> #N/A
B561: 9287761 | C561: 639990 | D561: Észak-Alföld | E561: Hajdúszoboszló | F561: =+VLOOKUP(B561,'9. Forrás(3)'!B563:E1401,4,0) -> #N/A
B562: 1743175 | C562: 1106270 | D562: Észak-Alföld | E562: Polgár | F562: =+VLOOKUP(B562,'9. Forrás(3)'!B564:E1402,4,0) -> #N/A
B563: 6758809 | C563: 301260 | D563: Dél-Alföld | E563: Kiskunhalas | F563: =+VLOOKUP(B563,'9. Forrás(3)'!B565:E1403,4,0) -> #N/A
...

Sheet 11. Forrás(4)
B2: Javítsuk ki a 12. munkalap 'F' oszlopában szereplő formulákat. Az a formulák célja, hogy jelen munkalapról áthozzák az adott számlaszámhoz tartozó értékesítők nevét
B6: Számlaszám | C6: Város | D6: Régió | E6: Értékesítő neve
B7: 9179866 | C7: Debrecen | D7: Észak-Alföld | E7: Kis István
B8: 6175532 | C8: Budapest | D8: Budapest | E8: Sándor Kitti
B9: 7839168 | C9: Debrecen | D9: Észak-Alföld | E9: Balogh Árpád
B10: 3457018 | C10: Budapest | D10: Budapest | E10: Jónás Kevin
B11: 8958793 | C11: Kaposvár | D11: Dél-Dunántúl | E11: Lukács Marcell
B12: 3916794 | C12: Budapest | D12: Budapest | E12: Mezei Rozália
B13: 3384195 | C13: Pécs | D13: Dél-Dunántúl | E13: Deák Zalán
B14: 8133704 | C14: Létavértes | D14: Észak-Alföld | E14: Bogdán Rózsa
B15: 6670667 | C15: Pécs | D15: Dél-Dunántúl | E15: Fazekas Szilárd
B16: 2551433 | C16: Szolnok | D16: Észak-Alföld | E16: Bogdán Rózsa
B17: 8924293 | C17: Budapest | D17: Budapest | E17: Farkas Dorina
... B845: 9435331 | C845: Érd | D845: Közép-Magyarország | E845: Péter Rita

Sheet 12. Cél(8)
B2: Számlaszám | C2: Összeg (HUF) | D2: Régió | E2: Város | F2: Értékesítő
B3: 7331368 | C3: 291410 | D3: Észak-Alföld | E3: Nyíregyháza | F3: =+VLOOKUP(B3,'11. Forrás(4)'!$B$7:$E$845,4,0) -> #N/A
B4: 6447362 | C4: 319630 | D4: Észak-Alföld | E4: Szolnok | F4: =+VLOOKUP(B4,'11. Forrás(4)'!$B$7:$E$845,4,0) -> #N/A
B5: 4773907 | C5: 1069440 | D5: Budapest | E5: Budapest | F5: =+VLOOKUP(B5,'11. Forrás(4)'!$B$7:$E$845,4,0) -> #N/A
B6: 5744274 | C6: 170360 | D6: Észak-Magyarország | E6: Eger | F6: =+VLOOKUP(B6,'11. Forrás(4)'!$B$7:$E$845,4,0) -> #N/A
B7: 8952184 | C7: 542500 | D7: Közép-Dunántúl | E7: Várpalota | F7: =+VLOOKUP(B7,'11. Forrás(4)'!$B$7:$E$845,4,0) -> #N/A
B8: 4457986 | C8: 543190 | D8: Budapest | E8: Budapest | F8: =+VLOOKUP(B8,'11. Forrás(4)'!$B$7:$E$845,4,0) -> #N/A
B9: 1665463 | C9: 1354190 | D9: Észak-Alföld | E9: Balmazújváros | F9: =+VLOOKUP(B9,'11. Forrás(4)'!$B$7:$E$845,4,0) -> #N/A
B10: 6299253 | C10: 479690 | D10: Dél-Dunántúl | E10: Dombóvár | F10: =+VLOOKUP(B10,'11. Forrás(4)'!$B$7:$E$845,4,0) -> #N/A
B11: 2450377 | C11: 690510 | D11: Közép-Dunántúl | E11: Balatonalmádi | F11: =+VLOOKUP(B11,'11. Forrás(4)'!$B$7:$E$845,4,0) -> #N/A
B12: 5081588 | C12: 1448350 | D12: Budapest | E12: Budapest | F12: =+VLOOKUP(B12,'11. Forrás(4)'!$B$7:$E$845,4,0) -> #N/A
B13: 6513659 | C13: 1493850 | D13: Dél-Alföld | E13: Orosháza | F13: =+VLOOKUP(B13,'11. Forrás(4)'!$B$7:$E$845,4,0) -> #N/A
B14: 7176928 | C14: 1071270 | D14: Észak-Alföld | E14: Nádudvar | F14: =+VLOOKUP(B14,'11. Forrás(4)'!$B$7:$E$845,4,0) -> #N/A
... B841: 1853556 | C841: 138030 | D841: Közép-Magyarország | E841: Maglód | F841: =+VLOOKUP(B841,'11. Forrás(4)'!$B$7:$E$845,4,0) -> #N/A
